BEGIN:VCALENDAR
VERSION:2.0
PRODID:-//Eventin//Event Calendar//EN
CALSCALE:GREGORIAN
METHOD:PUBLISH
BEGIN:VEVENT
UID:89707b598fd036eec86f59c51b538527@iteaedu.org
SUMMARY:1st Aletheia University Multidisciplinary Conference 2026
DESCRIPTION:“Multidisciplinary Research for Sustainable Development\, Inn
 ovation\, and Human Flourishing in a Digital Age”\n \n📅 June 15–16\,
  2026🕙 08:00 AM – 6:00 PM (GMT+1)💻 Platform: Zoom\n \n🎓 Featured
  Speakers:📌 Prof. Tunde Olabiyisi (Nigeria)📌 Prof. Akeem Olanrewaju S
 alami (Nigeria)📌 Prof. Michael O. Afolayan (USA)\n \n📝Register now: h
 ttps://forms.gle/wxEowqDMmCxMh3He6📅 Important Dates:\n \n\nSubmission De
 adline: May 31\, 2026\n \nConference Dates: June 15–16\, 2026\n\n \n📩 
 Submission & Inquiries:conference@aletheiauniversity.edu.ng\n \n🌐 www.au
 a.edu.ng\n \n✨ Expand your knowledge across disciplines✨ Engage with gl
 obal scholars and experts✨ Share your research and insights✨ Receive an
  official e-certificate\n \n🌟 Be part of a global platform driving innov
 ation and sustainable development!
LOCATION:Online
DTSTAMP:20260420T125957Z
DTSTART:20260615T070000Z
DTEND:20260616T170000Z
END:VEVENT
END:VCALENDAR
