BEGIN:VCALENDAR
VERSION:2.0
PRODID:-//Eventin//Event Calendar//EN
CALSCALE:GREGORIAN
METHOD:PUBLISH
BEGIN:VEVENT
UID:53668e272889b28130f286121e30e641@iteaedu.org
SUMMARY:International Scientific Seminar on Preschool Education
DESCRIPTION:International Scientific Seminar\n\n\n\n"Modern Trends in Presc
 hool Education: Theory and Practices"\n\n\n\n📅 Date: Friday\, 24th April
  2026🕑 Time: 2:00 PM – 5:00 PM (GMT+8)💻 Platform: Zoom\n\n\n\n📝 
 Register here: https://forms.gle/GK8xz3zZM9NgA9jm9🆔 Meeting ID: 837 6601
  8721\n\n\n\n✨ Gain practical insights from experts✨ Explore innovative
  teaching strategies✨ Connect with global educators and researchers✨ Ge
 t your e-certificate\n\n\n\nDon’t miss this opportunity to be part of the
  global dialogue!\n\n\n\n\nRegister Now
LOCATION:Online
DTSTAMP:20260420T125610Z
DTSTART:20260424T060000Z
DTEND:20260424T090000Z
END:VEVENT
END:VCALENDAR
